BEGIN:VCALENDAR
VERSION:2.0
PRODID:-//eventon.com NONSGML v1.0//EN
CALSCALE:GREGORIAN
METHOD:PUBLISH
BEGIN:VEVENT
UID:69e6001c5d48e
DTSTAMP:20260420T032948
DTSTART:20230718T190000Z
DTEND:20230722T040000Z
TZID:Pacific/Midway
LOCATION:
SUMMARY:COMMITTEE MEETINGS
DESCRIPTION: COMMITTEE MEETINGS\nhttps://tolc-nsn.org/events/committee-meetings-136/
URL:https://tolc-nsn.org/events/committee-meetings-136/
END:VEVENT
END:VCALENDAR