BEGIN:VCALENDAR
VERSION:2.0
PRODID:-//eventon.com NONSGML v1.0//EN
CALSCALE:GREGORIAN
METHOD:PUBLISH
BEGIN:VEVENT
UID:69e6003ae23f5
DTSTAMP:20260420T033018
DTSTART:20240729T080000Z
DTEND:20240731T170000Z
TZID:UTC
LOCATION:
SUMMARY:Committee Meetings
DESCRIPTION: Committee Meetings\nhttps://tolc-nsn.org/events/committee-meetings-184/
URL:https://tolc-nsn.org/events/committee-meetings-184/
END:VEVENT
END:VCALENDAR