BEGIN:VCALENDAR
VERSION:2.0
PRODID:-//eventon.com NONSGML v1.0//EN
CALSCALE:GREGORIAN
METHOD:PUBLISH
BEGIN:VEVENT
UID:69e89d5ad1418
DTSTAMP:20260422T030514
DTSTART:20241224T172800Z
DTEND:20241224T172800Z
TZID:UTC
LOCATION:
SUMMARY:Recess
DESCRIPTION: Recess\nhttps://tolc-nsn.org/events/recess-52/
URL:https://tolc-nsn.org/events/recess-52/
END:VEVENT
END:VCALENDAR