BEGIN:VCALENDAR
VERSION:2.0
PRODID:-//eventon.com NONSGML v1.0//EN
CALSCALE:GREGORIAN
METHOD:PUBLISH
BEGIN:VEVENT
UID:69e5ffd0e50b5
DTSTAMP:20260420T032832
DTSTART:20250303T174300Z
DTEND:20250307T174300Z
TZID:UTC
LOCATION:
SUMMARY:General Session
DESCRIPTION: General Session\nhttps://tolc-nsn.org/events/general-session-59/
URL:https://tolc-nsn.org/events/general-session-59/
END:VEVENT
END:VCALENDAR