BEGIN:VCALENDAR
VERSION:2.0
PRODID:-//eventon.com NONSGML v1.0//EN
CALSCALE:GREGORIAN
METHOD:PUBLISH
BEGIN:VEVENT
UID:69e5feca98a2b
DTSTAMP:20260420T032410
DTSTART:20200908
DTEND:20200912
TZID:UTC
LOCATION:
SUMMARY:Committee Meetings
DESCRIPTION: Committee Meetings\nhttps://tolc-nsn.org/events/committee-meetings-14/
URL:https://tolc-nsn.org/events/committee-meetings-14/
END:VEVENT
END:VCALENDAR